BEGIN:VCALENDAR
VERSION:2.0
PRODID:-//Innovation Foundry - ECPv6.15.12.2//NONSGML v1.0//EN
CALSCALE:GREGORIAN
METHOD:PUBLISH
X-ORIGINAL-URL:https://blogs.acu.edu/innovation_foundry
X-WR-CALDESC:Events for Innovation Foundry
REFRESH-INTERVAL;VALUE=DURATION:PT1H
X-Robots-Tag:noindex
X-PUBLISHED-TTL:PT1H
BEGIN:VTIMEZONE
TZID:America/Chicago
BEGIN:DAYLIGHT
TZOFFSETFROM:-0600
TZOFFSETTO:-0500
TZNAME:CDT
DTSTART:20200308T080000
END:DAYLIGHT
BEGIN:STANDARD
TZOFFSETFROM:-0500
TZOFFSETTO:-0600
TZNAME:CST
DTSTART:20201101T070000
END:STANDARD
BEGIN:DAYLIGHT
TZOFFSETFROM:-0600
TZOFFSETTO:-0500
TZNAME:CDT
DTSTART:20210314T080000
END:DAYLIGHT
BEGIN:STANDARD
TZOFFSETFROM:-0500
TZOFFSETTO:-0600
TZNAME:CST
DTSTART:20211107T070000
END:STANDARD
BEGIN:DAYLIGHT
TZOFFSETFROM:-0600
TZOFFSETTO:-0500
TZNAME:CDT
DTSTART:20220313T080000
END:DAYLIGHT
BEGIN:STANDARD
TZOFFSETFROM:-0500
TZOFFSETTO:-0600
TZNAME:CST
DTSTART:20221106T070000
END:STANDARD
BEGIN:DAYLIGHT
TZOFFSETFROM:-0600
TZOFFSETTO:-0500
TZNAME:CDT
DTSTART:20230312T080000
END:DAYLIGHT
BEGIN:STANDARD
TZOFFSETFROM:-0500
TZOFFSETTO:-0600
TZNAME:CST
DTSTART:20231105T070000
END:STANDARD
BEGIN:DAYLIGHT
TZOFFSETFROM:-0600
TZOFFSETTO:-0500
TZNAME:CDT
DTSTART:20240310T080000
END:DAYLIGHT
BEGIN:STANDARD
TZOFFSETFROM:-0500
TZOFFSETTO:-0600
TZNAME:CST
DTSTART:20241103T070000
END:STANDARD
BEGIN:DAYLIGHT
TZOFFSETFROM:-0600
TZOFFSETTO:-0500
TZNAME:CDT
DTSTART:20250309T080000
END:DAYLIGHT
BEGIN:STANDARD
TZOFFSETFROM:-0500
TZOFFSETTO:-0600
TZNAME:CST
DTSTART:20251102T070000
END:STANDARD
END:VTIMEZONE
BEGIN:VEVENT
DTSTART;TZID=America/Chicago:20240409T120000
DTEND;TZID=America/Chicago:20240409T125000
DTSTAMP:20260420T125634
CREATED:20240116T173717Z
LAST-MODIFIED:20240116T174027Z
UID:13297-1712664000-1712667000@blogs.acu.edu
SUMMARY:Generative AI for Productivity
DESCRIPTION:
URL:https://blogs.acu.edu/innovation_foundry/event/generative-ai-for-productivity/
LOCATION:Innovation Foundry
END:VEVENT
BEGIN:VEVENT
DTSTART;TZID=America/Chicago:20240326T120000
DTEND;TZID=America/Chicago:20240326T125000
DTSTAMP:20260420T125634
CREATED:20240308T145940Z
LAST-MODIFIED:20240308T145940Z
UID:13323-1711454400-1711457400@blogs.acu.edu
SUMMARY:Adobe Express
DESCRIPTION:RSVP for this session.
URL:https://blogs.acu.edu/innovation_foundry/event/adobe-express/
LOCATION:Innovation Foundry
END:VEVENT
BEGIN:VEVENT
DTSTART;TZID=America/Chicago:20240319T120000
DTEND;TZID=America/Chicago:20240319T125000
DTSTAMP:20260420T125634
CREATED:20240112T200404Z
LAST-MODIFIED:20240116T174258Z
UID:13295-1710849600-1710852600@blogs.acu.edu
SUMMARY:Adobe Firefly
DESCRIPTION:RSVP for this session.
URL:https://blogs.acu.edu/innovation_foundry/event/adobe-firefly/
LOCATION:Innovation Foundry
END:VEVENT
BEGIN:VEVENT
DTSTART;TZID=America/Chicago:20240305T120000
DTEND;TZID=America/Chicago:20240305T125000
DTSTAMP:20260420T125634
CREATED:20240112T195911Z
LAST-MODIFIED:20240116T174510Z
UID:13291-1709640000-1709643000@blogs.acu.edu
SUMMARY:Get More Out of Google Workspace: Google Docs
DESCRIPTION:RSVP for this session.
URL:https://blogs.acu.edu/innovation_foundry/event/get-more-out-of-google-workspace-google-docs/
LOCATION:Innovation Foundry
END:VEVENT
BEGIN:VEVENT
DTSTART;TZID=America/Chicago:20240227T120000
DTEND;TZID=America/Chicago:20240227T125000
DTSTAMP:20260420T125634
CREATED:20240112T200306Z
LAST-MODIFIED:20240116T174352Z
UID:13293-1709035200-1709038200@blogs.acu.edu
SUMMARY:Adobe Illustrator on the Web
DESCRIPTION:RSVP for this session.
URL:https://blogs.acu.edu/innovation_foundry/event/adobe-illustrator-on-the-web/
LOCATION:Innovation Foundry
END:VEVENT
BEGIN:VEVENT
DTSTART;TZID=America/Chicago:20240220T120000
DTEND;TZID=America/Chicago:20240220T125000
DTSTAMP:20260420T125634
CREATED:20240112T195810Z
LAST-MODIFIED:20240116T174618Z
UID:13289-1708430400-1708433400@blogs.acu.edu
SUMMARY:Get More Out of Google Workspace: Google Drive
DESCRIPTION:RSVP for this session.
URL:https://blogs.acu.edu/innovation_foundry/event/get-more-out-of-google-workspace-google-drive/
LOCATION:Innovation Foundry
END:VEVENT
BEGIN:VEVENT
DTSTART;TZID=America/Chicago:20240206T120000
DTEND;TZID=America/Chicago:20240206T125000
DTSTAMP:20260420T125634
CREATED:20240112T195716Z
LAST-MODIFIED:20240116T174643Z
UID:13287-1707220800-1707223800@blogs.acu.edu
SUMMARY:Get More Out of Google Workspace: Google Calendar
DESCRIPTION:RSVP for this session.
URL:https://blogs.acu.edu/innovation_foundry/event/get-more-out-of-google-workspace-google-calendar/
LOCATION:Innovation Foundry
END:VEVENT
BEGIN:VEVENT
DTSTART;TZID=America/Chicago:20240123T120000
DTEND;TZID=America/Chicago:20240123T125000
DTSTAMP:20260420T125634
CREATED:20240112T195609Z
LAST-MODIFIED:20240116T174657Z
UID:13285-1706011200-1706014200@blogs.acu.edu
SUMMARY:Get More Out of Google Workspace: Google Mail
DESCRIPTION:RSVP for this session.
URL:https://blogs.acu.edu/innovation_foundry/event/get-more-out-of-google-workspace-google-mail/
LOCATION:Innovation Foundry
END:VEVENT
BEGIN:VEVENT
DTSTART;TZID=America/Chicago:20230420T113000
DTEND;TZID=America/Chicago:20230420T125000
DTSTAMP:20260420T125634
CREATED:20230214T163447Z
LAST-MODIFIED:20230214T163447Z
UID:13268-1681990200-1681995000@blogs.acu.edu
SUMMARY:Coming Attractions in Canvas
DESCRIPTION:Stay ahead of the curve and find out what’s next for Canvas. We will provide an overview of the latest updates and developments in Canvas\, and discuss how these can benefit your teaching and learning environment. \n 
URL:https://blogs.acu.edu/innovation_foundry/event/coming-attractions-in-canvas/
LOCATION:Adams Center
ORGANIZER;CN="Innovation Foundry":MAILTO:if@acu.edu
END:VEVENT
BEGIN:VEVENT
DTSTART;TZID=America/Chicago:20230321T120000
DTEND;TZID=America/Chicago:20230321T125000
DTSTAMP:20260420T125634
CREATED:20230214T162955Z
LAST-MODIFIED:20230214T162955Z
UID:13264-1679400000-1679403000@blogs.acu.edu
SUMMARY:Creating Basic Motion Graphics for Social Media in Adobe After Effects (Part 2)
DESCRIPTION:Discover the magic of Adobe After Effects and how it can transform your social media presence. We will guide you through the basics of motion graphics and provide hands-on experience in creating dynamic and engaging graphics for social media platforms. \n 
URL:https://blogs.acu.edu/innovation_foundry/event/creating-basic-motion-graphics-for-social-media-in-adobe-after-effects-part-2/
LOCATION:Innovation Foundry
CATEGORIES:Adobe
ORGANIZER;CN="Innovation Foundry":MAILTO:if@acu.edu
END:VEVENT
BEGIN:VEVENT
DTSTART;TZID=America/Chicago:20230307T120000
DTEND;TZID=America/Chicago:20230307T125000
DTSTAMP:20260420T125634
CREATED:20230214T162817Z
LAST-MODIFIED:20230214T163157Z
UID:13262-1678190400-1678193400@blogs.acu.edu
SUMMARY:Creating Basic Motion Graphics for Social Media in Adobe After Effects (Part 1)
DESCRIPTION:Discover the magic of Adobe After Effects and how it can transform your social media presence. We will guide you through the basics of motion graphics and provide hands-on experience in creating dynamic and engaging graphics for social media platforms. \n 
URL:https://blogs.acu.edu/innovation_foundry/event/creating-basic-motion-graphics-for-social-media-in-adobe-after-effects-part-1/
LOCATION:Innovation Foundry
CATEGORIES:Adobe
ORGANIZER;CN="Innovation Foundry":MAILTO:if@acu.edu
END:VEVENT
BEGIN:VEVENT
DTSTART;TZID=America/Chicago:20230215T113000
DTEND;TZID=America/Chicago:20230215T125000
DTSTAMP:20260420T125634
CREATED:20230214T162319Z
LAST-MODIFIED:20230214T163523Z
UID:13258-1676460600-1676465400@blogs.acu.edu
SUMMARY:The Top Apps\, Tools and Plugins for Canvas @ ACU
DESCRIPTION:Learn about the most useful apps\, tools\, and plugins available for Canvas\, and discover how they can make a difference in the classroom. We will demonstrate the features and benefits of some of the top new tools in Canvas and provide tips for getting the most out of each. \n 
URL:https://blogs.acu.edu/innovation_foundry/event/the-top-apps-tools-and-plugins-for-canvas-acu/
LOCATION:Adams Center
CATEGORIES:Foundry Chat
ORGANIZER;CN="Innovation Foundry":MAILTO:if@acu.edu
END:VEVENT
BEGIN:VEVENT
DTSTART;TZID=America/Chicago:20221115T120000
DTEND;TZID=America/Chicago:20221115T125000
DTSTAMP:20260420T125634
CREATED:20220816T200137Z
LAST-MODIFIED:20220816T200137Z
UID:12990-1668513600-1668516600@blogs.acu.edu
SUMMARY:Photoshop on the Web: Creating Composite Images
DESCRIPTION:Lunch will be provided for this session.
URL:https://blogs.acu.edu/innovation_foundry/event/photoshop-on-the-web-creating-composite-images/
LOCATION:Innovation Foundry
CATEGORIES:Adobe
ORGANIZER;CN="Innovation Foundry":MAILTO:if@acu.edu
END:VEVENT
BEGIN:VEVENT
DTSTART;TZID=America/Chicago:20221101T120000
DTEND;TZID=America/Chicago:20221101T125000
DTSTAMP:20260420T125634
CREATED:20220816T195952Z
LAST-MODIFIED:20221012T212208Z
UID:12988-1667304000-1667307000@blogs.acu.edu
SUMMARY:Photoshop on the Web: Learning How to Edit Images
DESCRIPTION:Lunch will be provided for this session.
URL:https://blogs.acu.edu/innovation_foundry/event/photoshop-on-the-web-learning-how-to-edit-images/
LOCATION:Innovation Foundry
CATEGORIES:Adobe
ORGANIZER;CN="Innovation Foundry":MAILTO:if@acu.edu
END:VEVENT
BEGIN:VEVENT
DTSTART;TZID=America/Chicago:20221012T113000
DTEND;TZID=America/Chicago:20221012T125000
DTSTAMP:20260420T125634
CREATED:20220816T194602Z
LAST-MODIFIED:20221011T144955Z
UID:12977-1665574200-1665579000@blogs.acu.edu
SUMMARY:Digital Transformation of Physical Teaching Aids/Models Using Photogrammetry
DESCRIPTION:Digital Transformation of Physical Teaching Aids/Models Using Photogrammetry  \nWednesday\, Oct. 12\, 11:30 a.m. – 1 p.m.\nStephen Rektenwald\, Marisa Beard\, Amos Gutierrez\nAdams Center – Bamboo Room \nPhotogrammetry is a method of transforming physical resources into digital assets. Augmented reality repositories allow students to access digital representations on or through mobile devices with amazing precision. This technology provides several benefits to student interaction with learning tools at their desk in the classroom\, virtually\, or from their dorm room. Learn about processes for generating augmented reality models. 
URL:https://blogs.acu.edu/innovation_foundry/event/physical-to-digital-the-process-and-potential-of-providing-physical-resources-in-canvas-courses/
LOCATION:Adams Center
CATEGORIES:Foundry Chat
ORGANIZER;CN="Innovation Foundry":MAILTO:if@acu.edu
END:VEVENT
BEGIN:VEVENT
DTSTART;TZID=America/Chicago:20221006T120000
DTEND;TZID=America/Chicago:20221006T125000
DTSTAMP:20260420T125634
CREATED:20220816T195749Z
LAST-MODIFIED:20220816T195749Z
UID:12986-1665057600-1665060600@blogs.acu.edu
SUMMARY:Photoshop on the Web: Learning the Type Tool
DESCRIPTION:Lunch will be provided for this session.
URL:https://blogs.acu.edu/innovation_foundry/event/photoshop-on-the-web-learning-the-type-tool/
LOCATION:Innovation Foundry
CATEGORIES:Adobe
ORGANIZER;CN="Innovation Foundry":MAILTO:if@acu.edu
END:VEVENT
BEGIN:VEVENT
DTSTART;TZID=America/Chicago:20221004T120000
DTEND;TZID=America/Chicago:20221004T125000
DTSTAMP:20260420T125634
CREATED:20220816T195454Z
LAST-MODIFIED:20220816T195518Z
UID:12983-1664884800-1664887800@blogs.acu.edu
SUMMARY:Photoshop on the Web: Learning the Interface
DESCRIPTION:Lunch will be provided for this session.
URL:https://blogs.acu.edu/innovation_foundry/event/photoshop-on-the-web-learning-the-interface/
LOCATION:Innovation Foundry
CATEGORIES:Adobe
ORGANIZER;CN="Innovation Foundry":MAILTO:if@acu.edu
END:VEVENT
BEGIN:VEVENT
DTSTART;TZID=America/Chicago:20220914T080000
DTEND;TZID=America/Chicago:20221130T170000
DTSTAMP:20260420T125634
CREATED:20220816T195030Z
LAST-MODIFIED:20220816T195210Z
UID:12979-1663142400-1669827600@blogs.acu.edu
SUMMARY:Remembering and Forgetting in the Age of Technology: Teaching\, Learning\, and the Science of Memory in a Wired World
DESCRIPTION:This reading group will meet on Sept. 14\, Oct. 19\, Nov. 9\, and Nov. 30 from 11:30 am to 12:50 pm in the Adams Center.
URL:https://blogs.acu.edu/innovation_foundry/event/remembering-and-forgetting-in-the-age-of-technology-teaching-learning-and-the-science-of-memory-in-a-wired-world/
LOCATION:Adams Center
CATEGORIES:Reading Group
ORGANIZER;CN="Innovation Foundry":MAILTO:if@acu.edu
END:VEVENT
BEGIN:VEVENT
DTSTART;TZID=America/Chicago:20220912T113000
DTEND;TZID=America/Chicago:20220912T125000
DTSTAMP:20260420T125634
CREATED:20220816T194436Z
LAST-MODIFIED:20220816T194436Z
UID:12975-1662982200-1662987000@blogs.acu.edu
SUMMARY:Immersive Bible Showcase
DESCRIPTION:
URL:https://blogs.acu.edu/innovation_foundry/event/immersive-bible-showcase/
LOCATION:Adams Center
CATEGORIES:Foundry Chat
ORGANIZER;CN="Innovation Foundry":MAILTO:if@acu.edu
END:VEVENT
BEGIN:VEVENT
DTSTART;TZID=America/Chicago:20220908T113000
DTEND;TZID=America/Chicago:20220908T125000
DTSTAMP:20260420T125634
CREATED:20220816T193607Z
LAST-MODIFIED:20220816T194058Z
UID:12969-1662636600-1662641400@blogs.acu.edu
SUMMARY:Empathy by Design: How Course Design Helps Connect Your Students
DESCRIPTION:.
URL:https://blogs.acu.edu/innovation_foundry/event/empathy-by-design-how-course-design-helps-connect-your-students/
LOCATION:Adams Center
CATEGORIES:Foundry Chat
ORGANIZER;CN="Innovation Foundry":MAILTO:if@acu.edu
END:VEVENT
BEGIN:VEVENT
DTSTART;TZID=America/Chicago:20220328T140000
DTEND;TZID=America/Chicago:20220328T150000
DTSTAMP:20260420T125634
CREATED:20220113T160155Z
LAST-MODIFIED:20220114T152020Z
UID:12888-1648476000-1648479600@blogs.acu.edu
SUMMARY:Augmented Reality with Adobe Aero
DESCRIPTION:If the form below does not show\, go to the link to RSVP: https://forms.gle/HfNaPv3ibkbcudUR8 \n 
URL:https://blogs.acu.edu/innovation_foundry/event/augmented-reality-with-adobe-aero/
LOCATION:Innovation Foundry
CATEGORIES:Adobe
END:VEVENT
BEGIN:VEVENT
DTSTART;TZID=America/Chicago:20220323T113000
DTEND;TZID=America/Chicago:20220323T130000
DTSTAMP:20260420T125634
CREATED:20220113T155240Z
LAST-MODIFIED:20220114T183358Z
UID:12880-1648035000-1648040400@blogs.acu.edu
SUMMARY:Augment Your Course with Augmented Reality
DESCRIPTION:Augmented reality is a way to include physical resources in your online resources. As one instructor recalls\, “For students to be able to look at the various parts and really get a feel for what they’re looking at\, they need to see it in a three-dimensional format; therefore\, I’ve always been exceptionally strong about the idea that anatomy needs to be taught where you can hold it. I always thought of the virtual models more as a supplement until COVID-19\, and then it became so much more relevant.” Learn about resources available to you for using augmented reality in your courses. \nIf the form below does not show\, go to the link to RSVP: https://forms.gle/LxQwRaW8PzifBsfDA
URL:https://blogs.acu.edu/innovation_foundry/event/augment-your-course-with-augmented-reality/
LOCATION:Adams Center
CATEGORIES:Foundry Chat
ATTACH;FMTTYPE=image/jpeg:https://blogs.acu.edu/innovation_foundry/files/2022/01/AdobeStock_332072522-scaled.jpeg
END:VEVENT
BEGIN:VEVENT
DTSTART;TZID=America/Chicago:20220304T100000
DTEND;TZID=America/Chicago:20220304T230000
DTSTAMP:20260420T125634
CREATED:20220113T160020Z
LAST-MODIFIED:20220114T152944Z
UID:12886-1646388000-1646434800@blogs.acu.edu
SUMMARY:Photoshop Phriday: Part 3 - Compositing Images
DESCRIPTION:If the form below does not show\, go to the link to RSVP: https://forms.gle/6xy5oBpmi3cqB25Z7 \n 
URL:https://blogs.acu.edu/innovation_foundry/event/photoshop-phriday-part-3-compositing-images/
LOCATION:Innovation Foundry
CATEGORIES:Adobe
END:VEVENT
BEGIN:VEVENT
DTSTART;TZID=America/Chicago:20220228T020000
DTEND;TZID=America/Chicago:20220228T150000
DTSTAMP:20260420T125634
CREATED:20220113T160340Z
LAST-MODIFIED:20220114T153142Z
UID:12890-1646013600-1646060400@blogs.acu.edu
SUMMARY:Workshop: Make Your Own Book Stamp
DESCRIPTION:If the form below does not show\, go to the link to RSVP: https://forms.gle/Mw3owsXTJ9vZDdqx6 \n 
URL:https://blogs.acu.edu/innovation_foundry/event/workshop-make-your-own-book-stamp/
CATEGORIES:Maker Monday
END:VEVENT
BEGIN:VEVENT
DTSTART;TZID=America/Chicago:20220211T100000
DTEND;TZID=America/Chicago:20220211T110000
DTSTAMP:20260420T125634
CREATED:20220113T155757Z
LAST-MODIFIED:20220114T153231Z
UID:12884-1644573600-1644577200@blogs.acu.edu
SUMMARY:Photoshop Phriday: Part 2 - Using Layer Masks
DESCRIPTION:If the form below does not show\, go to the link to RSVP: https://forms.gle/72ujZXXrr8vY79Zw6 \n 
URL:https://blogs.acu.edu/innovation_foundry/event/photoshop-phriday-part-2-using-layer-masks/
LOCATION:Innovation Foundry
CATEGORIES:Adobe
END:VEVENT
BEGIN:VEVENT
DTSTART;TZID=America/Chicago:20220210T113000
DTEND;TZID=America/Chicago:20220210T130000
DTSTAMP:20260420T125634
CREATED:20220113T155006Z
LAST-MODIFIED:20220114T183813Z
UID:12878-1644492600-1644498000@blogs.acu.edu
SUMMARY:Digital Escape Rooms: Creating Challenging & Engaging Review Activities
DESCRIPTION:Online instruction and learning should be dynamic\, engaging\, and effective. The goal of this session is to share ways that participants can create innovative student-centered digital learning experiences. In this session\, we will take you through the strategic process of creating a virtual escape room activity to address gaps in student comprehension and retention. We will lead participants through a virtual escape room\, facilitate a discussion on the various ways instructors can create student-centered learning activities. \nIf the form below does not show\, go to the link to RSVP: https://forms.gle/JukCpbS8Qr5pTtrU7
URL:https://blogs.acu.edu/innovation_foundry/event/digital-escape-rooms-creating-challenging-engaging-review-activities/
LOCATION:Adams Center
CATEGORIES:Foundry Chat
ATTACH;FMTTYPE=image/jpeg:https://blogs.acu.edu/innovation_foundry/files/2022/01/AdobeStock_460115732-scaled.jpeg
END:VEVENT
BEGIN:VEVENT
DTSTART;TZID=America/Chicago:20220121T100000
DTEND;TZID=America/Chicago:20220121T110000
DTSTAMP:20260420T125634
CREATED:20220113T155606Z
LAST-MODIFIED:20220114T153455Z
UID:12882-1642759200-1642762800@blogs.acu.edu
SUMMARY:Photoshop Phriday: Part 1 - Basics of Photoshop
DESCRIPTION:If the form below does not show\, go to the link to RSVP: https://forms.gle/aw2BQFcyyRU4aYPy9 \n 
URL:https://blogs.acu.edu/innovation_foundry/event/photoshop-phriday-part-1-basics-of-photoshop/
LOCATION:Innovation Foundry
CATEGORIES:Adobe
END:VEVENT
BEGIN:VEVENT
DTSTART;TZID=America/Chicago:20220113T113000
DTEND;TZID=America/Chicago:20220113T130000
DTSTAMP:20260420T125634
CREATED:20220113T154406Z
LAST-MODIFIED:20220114T153428Z
UID:12870-1642073400-1642078800@blogs.acu.edu
SUMMARY:Let Your Monkeys Go: Goodbye Survey Monkey\, Hello Qualtrics
DESCRIPTION:If the form below does not show\, go to the link to RSVP: https://forms.gle/rGdgXgLnAGevT4yg9 \n 
URL:https://blogs.acu.edu/innovation_foundry/event/let-your-monkeys-go-goodbye-survey-monkey-hello-qualtrics/
LOCATION:Adams Center
CATEGORIES:Foundry Chat
END:VEVENT
BEGIN:VEVENT
DTSTART;TZID=America/Chicago:20211118T113000
DTEND;TZID=America/Chicago:20211118T130000
DTSTAMP:20260420T125634
CREATED:20210728T164223Z
LAST-MODIFIED:20210728T204914Z
UID:12745-1637235000-1637240400@blogs.acu.edu
SUMMARY:Creativity for All - November 18\, 2021
DESCRIPTION:
URL:https://blogs.acu.edu/innovation_foundry/event/creativity-for-all-november-18-2021/
LOCATION:Adams Center
CATEGORIES:Foundry Chat
ATTACH;FMTTYPE=image/png:https://blogs.acu.edu/innovation_foundry/files/2021/07/CreativityLC_small.png
END:VEVENT
BEGIN:VEVENT
DTSTART;TZID=America/Chicago:20211108T140000
DTEND;TZID=America/Chicago:20211108T150000
DTSTAMP:20260420T125634
CREATED:20211005T172800Z
LAST-MODIFIED:20211104T194029Z
UID:12812-1636380000-1636383600@blogs.acu.edu
SUMMARY:Applying Best Practices in Questionnaire Design
DESCRIPTION:Dr. Suzie Macaluso shares some of her expertise in survey design in a conversation designed to help you maximize your upcoming survey research.  \nNovember 8 @ 2:00 pm – 3:00 pm
URL:https://blogs.acu.edu/innovation_foundry/event/applying-best-practices-in-questionnaire-design-2/
LOCATION:Innovation Foundry
END:VEVENT
END:VCALENDAR