BEGIN:VCALENDAR
VERSION:2.0
PRODID:-//Innovation Foundry - ECPv6.15.12.2//NONSGML v1.0//EN
CALSCALE:GREGORIAN
METHOD:PUBLISH
X-WR-CALNAME:Innovation Foundry
X-ORIGINAL-URL:https://blogs.acu.edu/innovation_foundry
X-WR-CALDESC:Events for Innovation Foundry
REFRESH-INTERVAL;VALUE=DURATION:PT1H
X-Robots-Tag:noindex
X-PUBLISHED-TTL:PT1H
BEGIN:VTIMEZONE
TZID:America/Chicago
BEGIN:DAYLIGHT
TZOFFSETFROM:-0600
TZOFFSETTO:-0500
TZNAME:CDT
DTSTART:20190310T080000
END:DAYLIGHT
BEGIN:STANDARD
TZOFFSETFROM:-0500
TZOFFSETTO:-0600
TZNAME:CST
DTSTART:20191103T070000
END:STANDARD
BEGIN:DAYLIGHT
TZOFFSETFROM:-0600
TZOFFSETTO:-0500
TZNAME:CDT
DTSTART:20200308T080000
END:DAYLIGHT
BEGIN:STANDARD
TZOFFSETFROM:-0500
TZOFFSETTO:-0600
TZNAME:CST
DTSTART:20201101T070000
END:STANDARD
BEGIN:DAYLIGHT
TZOFFSETFROM:-0600
TZOFFSETTO:-0500
TZNAME:CDT
DTSTART:20210314T080000
END:DAYLIGHT
BEGIN:STANDARD
TZOFFSETFROM:-0500
TZOFFSETTO:-0600
TZNAME:CST
DTSTART:20211107T070000
END:STANDARD
BEGIN:DAYLIGHT
TZOFFSETFROM:-0600
TZOFFSETTO:-0500
TZNAME:CDT
DTSTART:20220313T080000
END:DAYLIGHT
BEGIN:STANDARD
TZOFFSETFROM:-0500
TZOFFSETTO:-0600
TZNAME:CST
DTSTART:20221106T070000
END:STANDARD
END:VTIMEZONE
BEGIN:VEVENT
DTSTART;TZID=America/Chicago:20210811T093000
DTEND;TZID=America/Chicago:20210811T113000
DTSTAMP:20260420T172642
CREATED:20210512T202013Z
LAST-MODIFIED:20210512T202103Z
UID:12698-1628674200-1628681400@blogs.acu.edu
SUMMARY:Exploring and Analyzing Your Data in Qualtrics - Aug 11\, 2021
DESCRIPTION:This workshop will be held via zoom. RSVP below to be added to the Calendar Invite. \nLearn how to prepare your data and then analyze it with powerful tools to uncover meaningful insights.
URL:https://blogs.acu.edu/innovation_foundry/event/exploring-and-analyzing-your-data-in-qualtrics-aug-11-2021/
LOCATION:Webinar
CATEGORIES:Foundry Chat
ATTACH;FMTTYPE=image/png:https://blogs.acu.edu/innovation_foundry/files/2021/05/Qualtrics-Logo.png
END:VEVENT
BEGIN:VEVENT
DTSTART;TZID=America/Chicago:20210806T093000
DTEND;TZID=America/Chicago:20210806T110000
DTSTAMP:20260420T172642
CREATED:20210512T201030Z
LAST-MODIFIED:20210512T201030Z
UID:12694-1628242200-1628247600@blogs.acu.edu
SUMMARY:Building An Advanced Survey in Qualtrics - Aug 6\, 2021
DESCRIPTION:This workshop will be held via zoom. RSVP below to be added to the Calendar Invite.\nLearn about the question types\, methodologies\, and survey design tools necessary to create specialized research projects.
URL:https://blogs.acu.edu/innovation_foundry/event/building-an-advanced-survey-in-qualtrics-aug-6-2021/
CATEGORIES:Foundry Chat
ATTACH;FMTTYPE=image/png:https://blogs.acu.edu/innovation_foundry/files/2021/05/Qualtrics-Logo.png
END:VEVENT
BEGIN:VEVENT
DTSTART;TZID=America/Chicago:20210803T140000
DTEND;TZID=America/Chicago:20210803T150000
DTSTAMP:20260420T172642
CREATED:20210726T205806Z
LAST-MODIFIED:20210726T210107Z
UID:12718-1627999200-1628002800@blogs.acu.edu
SUMMARY:Applying Best Practices in Questionnaire Design
DESCRIPTION:Master the art of survey building by implementing fundamental best practices that all researchers must know in order to collect high-quality data.
URL:https://blogs.acu.edu/innovation_foundry/event/applying-best-practices-in-questionnaire-design/
LOCATION:Webinar
CATEGORIES:Foundry Chat
ATTACH;FMTTYPE=image/png:https://blogs.acu.edu/innovation_foundry/files/2021/05/Qualtrics-Logo.png
ORGANIZER;CN="Innovation Foundry":MAILTO:if@acu.edu
END:VEVENT
BEGIN:VEVENT
DTSTART;TZID=America/Chicago:20210803T093000
DTEND;TZID=America/Chicago:20210803T110000
DTSTAMP:20260420T172642
CREATED:20210512T200106Z
LAST-MODIFIED:20210512T200146Z
UID:12689-1627983000-1627988400@blogs.acu.edu
SUMMARY:Building a Survey Project in Qualtrics - August 3\, 2021
DESCRIPTION:This workshop will be held via zoom. RSVP below to be added to the Calendar Invite. \nObjectives:\nUnderstand the project types available ​\nCreate and build a professional survey\nEffectively organize and randomize your questions\nKnow when and how to use question logic\nCustomize the survey experience settings ahead of publishing
URL:https://blogs.acu.edu/innovation_foundry/event/12689/
LOCATION:Webinar
CATEGORIES:Foundry Chat
ATTACH;FMTTYPE=image/png:https://blogs.acu.edu/innovation_foundry/files/2021/05/Qualtrics-Logo.png
END:VEVENT
BEGIN:VEVENT
DTSTART;TZID=America/Chicago:20210630T093000
DTEND;TZID=America/Chicago:20210630T113000
DTSTAMP:20260420T172642
CREATED:20210512T201455Z
LAST-MODIFIED:20210512T201608Z
UID:12696-1625045400-1625052600@blogs.acu.edu
SUMMARY:Exploring and Analyzing Your Data in Qualtrics - June 30\, 2021
DESCRIPTION:This workshop will be held via zoom. RSVP below to be added to the Calendar Invite. \nLearn how to prepare your data and then analyze it with powerful tools to uncover meaningful insights.
URL:https://blogs.acu.edu/innovation_foundry/event/exploring-and-analyzing-your-data-in-qualtrics-june-30-2021/
LOCATION:Webinar
CATEGORIES:Foundry Chat
ATTACH;FMTTYPE=image/png:https://blogs.acu.edu/innovation_foundry/files/2021/05/Qualtrics-Logo.png
END:VEVENT
BEGIN:VEVENT
DTSTART;TZID=America/Chicago:20210629T130000
DTEND;TZID=America/Chicago:20210629T140000
DTSTAMP:20260420T172642
CREATED:20210514T212249Z
LAST-MODIFIED:20210625T195813Z
UID:12706-1624971600-1624975200@blogs.acu.edu
SUMMARY:Introduction to the Epilog Fusion Pro
DESCRIPTION:Discover the new possibilities with the Epilog Fusion Pro and its bed size of 3ft by 4ft. The scope of your project ideas just got bigger.
URL:https://blogs.acu.edu/innovation_foundry/event/introduction-to-the-epilog-fusion-pro/
LOCATION:Maker Lab Classroom
CATEGORIES:Maker Monday
ATTACH;FMTTYPE=image/jpeg:https://blogs.acu.edu/innovation_foundry/files/2021/05/fusion-pro-front-e1621027349779.jpg
END:VEVENT
BEGIN:VEVENT
DTSTART;TZID=America/Chicago:20210624T093000
DTEND;TZID=America/Chicago:20210624T110000
DTSTAMP:20260420T172642
CREATED:20210512T200523Z
LAST-MODIFIED:20210512T200523Z
UID:12692-1624527000-1624532400@blogs.acu.edu
SUMMARY:Building An Advanced Survey in Qualtrics - June 24\, 2021
DESCRIPTION:This workshop will be held via zoom. RSVP below to be added to the Calendar Invite.\nLearn about the question types\, methodologies\, and survey design tools necessary to create specialized research projects.
URL:https://blogs.acu.edu/innovation_foundry/event/building-an-advanced-survey-in-qualtrics-june-24-2021/
LOCATION:Webinar
CATEGORIES:Foundry Chat
ATTACH;FMTTYPE=image/png:https://blogs.acu.edu/innovation_foundry/files/2021/05/Qualtrics-Logo.png
END:VEVENT
BEGIN:VEVENT
DTSTART;TZID=America/Chicago:20210623T093000
DTEND;TZID=America/Chicago:20210623T110000
DTSTAMP:20260420T172642
CREATED:20210512T191626Z
LAST-MODIFIED:20210512T194117Z
UID:12677-1624440600-1624446000@blogs.acu.edu
SUMMARY:Building a Survey Project in Qualtrics
DESCRIPTION:This workshop will be held via zoom. RSVP below to be added to the Calendar Invite. \nObjectives:\nUnderstand the project types available ​\nCreate and build a professional survey\nEffectively organize and randomize your questions\nKnow when and how to use question logic\nCustomize the survey experience settings ahead of publishing
URL:https://blogs.acu.edu/innovation_foundry/event/building-a-survey-project-in-qualtrics/
LOCATION:Webinar
CATEGORIES:Foundry Chat
ATTACH;FMTTYPE=image/png:https://blogs.acu.edu/innovation_foundry/files/2021/05/Qualtrics-Logo.png
END:VEVENT
BEGIN:VEVENT
DTSTART;TZID=America/Chicago:20210603T130000
DTEND;TZID=America/Chicago:20210603T140000
DTSTAMP:20260420T172642
CREATED:20210513T165151Z
LAST-MODIFIED:20210513T170032Z
UID:12701-1622725200-1622728800@blogs.acu.edu
SUMMARY:Access to Adobe Stock
DESCRIPTION:This workshop will be held via zoom. RSVP below to be added to the Calendar Invite.
URL:https://blogs.acu.edu/innovation_foundry/event/access-to-adobe-stock/
LOCATION:Webinar
CATEGORIES:Foundry Chat
ATTACH;FMTTYPE=image/png:https://blogs.acu.edu/innovation_foundry/files/2019/01/AdobeCC_300x300-1.png
END:VEVENT
BEGIN:VEVENT
DTSTART;TZID=America/Chicago:20210525T140000
DTEND;TZID=America/Chicago:20210525T150000
DTSTAMP:20260420T172642
CREATED:20210514T211459Z
LAST-MODIFIED:20210525T025159Z
UID:12703-1621951200-1621954800@blogs.acu.edu
SUMMARY:Creating Anaglyph 3D Images in Photoshop
DESCRIPTION:3D digital technology has come a long way\, but remember how fun it was to use those 3D paper glasses. Relive your childhood and create your own 3D images. \nThis workshop will be face to face. RSVP below to be added to the Calendar Invite.
URL:https://blogs.acu.edu/innovation_foundry/event/creating-anaglyph-3d-images-in-photoshop/
LOCATION:Webinar
CATEGORIES:Adobe
ATTACH;FMTTYPE=image/jpeg:https://blogs.acu.edu/innovation_foundry/files/2021/05/3d-anaglyph-738967_640-e1621026794442.jpg
END:VEVENT
BEGIN:VEVENT
DTSTART;TZID=America/Chicago:20210422T140000
DTEND;TZID=America/Chicago:20210422T150000
DTSTAMP:20260420T172642
CREATED:20210113T175050Z
LAST-MODIFIED:20210210T153037Z
UID:12640-1619100000-1619103600@blogs.acu.edu
SUMMARY:Unlocking the Power of the Pen Tool in Illustrator
DESCRIPTION:
URL:https://blogs.acu.edu/innovation_foundry/event/unlocking-the-power-of-the-pen-tool-in-illustrator/
LOCATION:Webinar
CATEGORIES:Adobe
ATTACH;FMTTYPE=image/png:https://blogs.acu.edu/innovation_foundry/files/2021/01/SMALL-Pen-Tool-in-Illustrator.png
END:VEVENT
BEGIN:VEVENT
DTSTART;TZID=America/Chicago:20210408T140000
DTEND;TZID=America/Chicago:20210408T150000
DTSTAMP:20260420T172642
CREATED:20210113T174914Z
LAST-MODIFIED:20210210T152839Z
UID:12638-1617890400-1617894000@blogs.acu.edu
SUMMARY:"Photoshop It"
DESCRIPTION:“Photoshop It!” You are probably familiar with this phrase used when altering an image. Learn how to enhance your photos with three photo hacks: removing objects\, replacing skies\, and recoloring images.
URL:https://blogs.acu.edu/innovation_foundry/event/photoshop-it/
LOCATION:Webinar
CATEGORIES:Adobe
ATTACH;FMTTYPE=image/png:https://blogs.acu.edu/innovation_foundry/files/2021/01/SMALL-Photoshop-It.png
END:VEVENT
BEGIN:VEVENT
DTSTART;TZID=America/Chicago:20210408T113000
DTEND;TZID=America/Chicago:20210408T123000
DTSTAMP:20260420T172642
CREATED:20210208T153300Z
LAST-MODIFIED:20210210T152548Z
UID:12655-1617881400-1617885000@blogs.acu.edu
SUMMARY:Teaching and Learning with LinkedIn Learning
DESCRIPTION:Come and explore our online learning library\, LinkedIn Learning. Learn how to gain access to data insights from the LinkedIn ecosystem\, how to use LinkedIn content to support your curricula\, and how faculty members across the state of Texas benefit from this technology. We will hear from a LinkedIn representative whose sole focus is supporting higher education in Texas and get tips and tricks on how to navigate this technology in our changing environment.
URL:https://blogs.acu.edu/innovation_foundry/event/teaching-and-learning-with-linkedin-learning/
LOCATION:Webinar
CATEGORIES:Foundry Chat
ATTACH;FMTTYPE=image/png:https://blogs.acu.edu/innovation_foundry/files/2021/02/SMALL-LinkedIn-Learning.png
END:VEVENT
BEGIN:VEVENT
DTSTART;TZID=America/Chicago:20210329T113000
DTEND;TZID=America/Chicago:20210329T123000
DTSTAMP:20260420T172642
CREATED:20210113T175443Z
LAST-MODIFIED:20210210T152413Z
UID:12644-1617017400-1617021000@blogs.acu.edu
SUMMARY:Woodworking 101
DESCRIPTION:Learn how to safely and properly use wood working tools in the Maker Lab.
URL:https://blogs.acu.edu/innovation_foundry/event/woodworking-101/
LOCATION:Webinar
CATEGORIES:Maker Monday
ATTACH;FMTTYPE=image/png:https://blogs.acu.edu/innovation_foundry/files/2021/01/SMALL-Working-101.png
END:VEVENT
BEGIN:VEVENT
DTSTART;TZID=America/Chicago:20210324T140000
DTEND;TZID=America/Chicago:20210324T143000
DTSTAMP:20260420T172642
CREATED:20210113T174236Z
LAST-MODIFIED:20210210T152046Z
UID:12630-1616594400-1616596200@blogs.acu.edu
SUMMARY:Using Google Calendar Effectively
DESCRIPTION:Efficiently using Google Calendar to plan our lives!
URL:https://blogs.acu.edu/innovation_foundry/event/using-google-calendar-effectively/
LOCATION:Webinar
CATEGORIES:Tech Tune-Up
ATTACH;FMTTYPE=image/png:https://blogs.acu.edu/innovation_foundry/files/2021/01/SMALL-Google-Calander.png
END:VEVENT
BEGIN:VEVENT
DTSTART;TZID=America/Chicago:20210323T140000
DTEND;TZID=America/Chicago:20210323T143000
DTSTAMP:20260420T172642
CREATED:20210113T173822Z
LAST-MODIFIED:20210210T151718Z
UID:12626-1616508000-1616509800@blogs.acu.edu
SUMMARY:Using Google Mail Effectively
DESCRIPTION:We all use Google Mail – but Let’s Get More Efficient!
URL:https://blogs.acu.edu/innovation_foundry/event/using-google-mail-effectively/
LOCATION:Webinar
CATEGORIES:Tech Tune-Up
ATTACH;FMTTYPE=image/png:https://blogs.acu.edu/innovation_foundry/files/2021/01/SMALL-Google-Mail.png
END:VEVENT
BEGIN:VEVENT
DTSTART;TZID=America/Chicago:20210317T140000
DTEND;TZID=America/Chicago:20210317T143000
DTSTAMP:20260420T172642
CREATED:20210113T174508Z
LAST-MODIFIED:20210210T151614Z
UID:12634-1615989600-1615991400@blogs.acu.edu
SUMMARY:How to Back Up Files With Google File Stream
DESCRIPTION:Learn how to free up space on your computer hard drive by backing up to Google File Stream!
URL:https://blogs.acu.edu/innovation_foundry/event/how-to-back-up-files-with-google-file-stream/
LOCATION:Webinar
CATEGORIES:Tech Tune-Up
ATTACH;FMTTYPE=image/png:https://blogs.acu.edu/innovation_foundry/files/2021/01/SMALL-Google-File-Stream.png
END:VEVENT
BEGIN:VEVENT
DTSTART;TZID=America/Chicago:20210316T140000
DTEND;TZID=America/Chicago:20210316T143000
DTSTAMP:20260420T172642
CREATED:20210113T173010Z
LAST-MODIFIED:20210210T151419Z
UID:12622-1615903200-1615905000@blogs.acu.edu
SUMMARY:Google Drive 101
DESCRIPTION:Store any file! Google Drive allows you to store any kind of file online and access them anywhere using the cloud.
URL:https://blogs.acu.edu/innovation_foundry/event/google-drive-101/
LOCATION:Webinar
CATEGORIES:Tech Tune-Up
ATTACH;FMTTYPE=image/png:https://blogs.acu.edu/innovation_foundry/files/2021/01/SMALL-Google-Drive-101.png
END:VEVENT
BEGIN:VEVENT
DTSTART;TZID=America/Chicago:20210303T140000
DTEND;TZID=America/Chicago:20210303T143000
DTSTAMP:20260420T172642
CREATED:20210113T174029Z
LAST-MODIFIED:20210210T151255Z
UID:12628-1614780000-1614781800@blogs.acu.edu
SUMMARY:Share Your Presentation for Feedback
DESCRIPTION:Need to collaborate on presentation — Google Slides is the answer!
URL:https://blogs.acu.edu/innovation_foundry/event/share-your-presentation-for-feedback/
LOCATION:Webinar
CATEGORIES:Tech Tune-Up
ATTACH;FMTTYPE=image/png:https://blogs.acu.edu/innovation_foundry/files/2021/01/SMALL-Share-Your-Presentation.png
END:VEVENT
BEGIN:VEVENT
DTSTART;TZID=America/Chicago:20210302T140000
DTEND;TZID=America/Chicago:20210302T143000
DTSTAMP:20260420T172642
CREATED:20210113T173610Z
LAST-MODIFIED:20210210T151205Z
UID:12624-1614693600-1614695400@blogs.acu.edu
SUMMARY:Staying Connected with Google Docs
DESCRIPTION:Learn more about writing\, collaborating\, ad sharing with Google Docs.
URL:https://blogs.acu.edu/innovation_foundry/event/staying-connected-with-google-docs/
LOCATION:Webinar
CATEGORIES:Tech Tune-Up
ATTACH;FMTTYPE=image/png:https://blogs.acu.edu/innovation_foundry/files/2021/01/SMALL-Google-Docs.png
END:VEVENT
BEGIN:VEVENT
DTSTART;TZID=America/Chicago:20210225T140000
DTEND;TZID=America/Chicago:20210225T150000
DTSTAMP:20260420T172642
CREATED:20210113T174706Z
LAST-MODIFIED:20210210T151041Z
UID:12636-1614261600-1614265200@blogs.acu.edu
SUMMARY:Publishing Interactive Documents Online
DESCRIPTION:Learn how to create and publish interactive documents online that can be embedded on your website or on your Canvas course.
URL:https://blogs.acu.edu/innovation_foundry/event/publishing-interactive-documents-online/
LOCATION:Webinar
CATEGORIES:Adobe
ATTACH;FMTTYPE=image/png:https://blogs.acu.edu/innovation_foundry/files/2021/01/SMALL-Publishing-Interactive-Doc-Online.png
END:VEVENT
BEGIN:VEVENT
DTSTART;TZID=America/Chicago:20210223T140000
DTEND;TZID=America/Chicago:20210223T150000
DTSTAMP:20260420T172642
CREATED:20210113T181026Z
LAST-MODIFIED:20210210T150904Z
UID:12648-1614088800-1614092400@blogs.acu.edu
SUMMARY:TechLifeHacks: Google Chrome Extensions to Make Your Day Easier
DESCRIPTION:Your browser is your gateway to the internet. What tools are you using to make that gateway more accessible? Find out some tools to help make your browser easier and more functional.
URL:https://blogs.acu.edu/innovation_foundry/event/techlifehacks-google-chrome-extensions-to-make-your-day-easier/
LOCATION:Webinar
CATEGORIES:Tech Tune-Up
ATTACH;FMTTYPE=image/png:https://blogs.acu.edu/innovation_foundry/files/2021/01/SMALL-Google-Chrome-Extensions.png
END:VEVENT
BEGIN:VEVENT
DTSTART;TZID=America/Chicago:20210215T113000
DTEND;TZID=America/Chicago:20210215T123000
DTSTAMP:20260420T172642
CREATED:20210113T175244Z
LAST-MODIFIED:20210210T150749Z
UID:12642-1613388600-1613392200@blogs.acu.edu
SUMMARY:Epilog Laser Cutting 101
DESCRIPTION:Learn how to set up the Epilog and Epilog Mini to cut or engrave using various common materials.
URL:https://blogs.acu.edu/innovation_foundry/event/epilog-laser-cutting-101/
LOCATION:Webinar
CATEGORIES:Maker Monday
ATTACH;FMTTYPE=image/png:https://blogs.acu.edu/innovation_foundry/files/2021/01/SMALL-Epilog-Laser-Cutting.png
END:VEVENT
BEGIN:VEVENT
DTSTART;TZID=America/Chicago:20210202T140000
DTEND;TZID=America/Chicago:20210202T150000
DTSTAMP:20260420T172642
CREATED:20210113T180824Z
LAST-MODIFIED:20210113T180824Z
UID:12646-1612274400-1612278000@blogs.acu.edu
SUMMARY:The Educational Reality of Virtual Reality
DESCRIPTION:Research in virtual reality has demonstrated many key advantages over conventional presentation styles. The Innovation Foundry has partnered with several classes at ACU to bring virtual reality. Why would a course use virtual reality?
URL:https://blogs.acu.edu/innovation_foundry/event/the-educational-reality-of-virtual-reality/
LOCATION:Webinar
CATEGORIES:Foundry Chat
END:VEVENT
BEGIN:VEVENT
DTSTART;TZID=America/Chicago:20201012T113000
DTEND;TZID=America/Chicago:20201012T123000
DTSTAMP:20260420T172642
CREATED:20200824T152613Z
LAST-MODIFIED:20201005T165948Z
UID:12558-1602502200-1602505800@blogs.acu.edu
SUMMARY:Laser Cut Holiday Decorations
DESCRIPTION:Learn how to design and make your own holiday decorations in the Maker Lab. In this session\, you will learn how to set up your designs for the laser cutters using Adobe Illustrator.
URL:https://blogs.acu.edu/innovation_foundry/event/maker-laser-cut-holiday-decorations/
LOCATION:Webinar
CATEGORIES:Maker Monday
ORGANIZER;CN="Innovation Foundry":MAILTO:if@acu.edu
END:VEVENT
BEGIN:VEVENT
DTSTART;TZID=America/Chicago:20200929T110000
DTEND;TZID=America/Chicago:20200929T115000
DTSTAMP:20260420T172642
CREATED:20200824T153308Z
LAST-MODIFIED:20200824T154523Z
UID:12570-1601377200-1601380200@blogs.acu.edu
SUMMARY:Google's Collaborative Whiteboard
DESCRIPTION:Create a Jam session on Google’s collaborative whiteboard and learn some of the innovative features in this add on to your classroom. \n 
URL:https://blogs.acu.edu/innovation_foundry/event/googles-collaborative-whiteboard/
LOCATION:Webinar
CATEGORIES:Tech Tune-Up
ORGANIZER;CN="Innovation Foundry":MAILTO:if@acu.edu
END:VEVENT
BEGIN:VEVENT
DTSTART;TZID=America/Chicago:20200914T113000
DTEND;TZID=America/Chicago:20200914T123000
DTSTAMP:20260420T172642
CREATED:20200824T152728Z
LAST-MODIFIED:20200904T143451Z
UID:12560-1600083000-1600086600@blogs.acu.edu
SUMMARY:Making Storage and Gift Boxes in the Maker Lab
DESCRIPTION:The Maker Lab offers various opportunities to create decorative and practical things. In this session\, learn how to set up an Adobe Illustrator file to make storage boxes and gift boxes in the Maker Lab using the laser cutters or CNC router. 
URL:https://blogs.acu.edu/innovation_foundry/event/making-storage-and-gift-boxes/
LOCATION:Webinar
CATEGORIES:Maker Monday
ATTACH;FMTTYPE=image/png:https://blogs.acu.edu/innovation_foundry/files/2020/08/MM_Boxes_WebSign.png
ORGANIZER;CN="Innovation Foundry":MAILTO:if@acu.edu
END:VEVENT
BEGIN:VEVENT
DTSTART;TZID=America/Chicago:20200910T140000
DTEND;TZID=America/Chicago:20200910T150000
DTSTAMP:20260420T172642
CREATED:20200824T152846Z
LAST-MODIFIED:20200904T141123Z
UID:12562-1599746400-1599750000@blogs.acu.edu
SUMMARY:Get More Out of the Type Tool in Adobe Illustrator
DESCRIPTION:Adobe Illustrator is a powerful tool for graphic design available to all faculty\, staff\, and students at ACU. This webinar will focus on the type tool and the various options within Illustrator to modify and enhance the text in your graphic projects.
URL:https://blogs.acu.edu/innovation_foundry/event/get-more-out-of-the-type-tool-in-adobe-illustrator/
LOCATION:Webinar
CATEGORIES:Adobe
ATTACH;FMTTYPE=image/png:https://blogs.acu.edu/innovation_foundry/files/2020/08/TypeTool_Illustrator_WebSign.png
ORGANIZER;CN="Innovation Foundry":MAILTO:if@acu.edu
END:VEVENT
BEGIN:VEVENT
DTSTART;TZID=America/Chicago:20200901T110000
DTEND;TZID=America/Chicago:20200901T115000
DTSTAMP:20260420T172642
CREATED:20200824T152408Z
LAST-MODIFIED:20200828T200101Z
UID:12556-1598958000-1598961000@blogs.acu.edu
SUMMARY:Learn to be a Pro with Zoom
DESCRIPTION:Zoom has many tools that make class meetings zoom along. Learn how to make the most of your class meetings in this 1 hour session. \n 
URL:https://blogs.acu.edu/innovation_foundry/event/learn-to-be-a-pro-with-zoom/
LOCATION:Webinar
CATEGORIES:Foundry Chat
ATTACH;FMTTYPE=image/png:https://blogs.acu.edu/innovation_foundry/files/2020/08/ZoomSession_WebSign960.png
ORGANIZER;CN="Innovation Foundry":MAILTO:if@acu.edu
END:VEVENT
BEGIN:VEVENT
DTSTART;TZID=America/Chicago:20200831T113000
DTEND;TZID=America/Chicago:20200831T123000
DTSTAMP:20260420T172642
CREATED:20200824T153201Z
LAST-MODIFIED:20200826T180150Z
UID:12568-1598873400-1598877000@blogs.acu.edu
SUMMARY:Going Digital with Adobe Sign: Advanced
DESCRIPTION:Krista Heath\, ACU Academic Operations Manager\, walks through advanced options within Adobe Sign. Adobe Sign is a cloud-based e-signature service. With it\, you can easily send\, sign\, track\, and manage signature processes using a browser or mobile device. Watch Krista’s presentation over the basic features of Adobe Sign here. \n 
URL:https://blogs.acu.edu/innovation_foundry/event/going-digital-with-adobe-sign-advanced/
LOCATION:Webinar
CATEGORIES:Adobe,Tech Tune-Up
ATTACH;FMTTYPE=image/png:https://blogs.acu.edu/innovation_foundry/files/2020/08/Adobe_Sign_sign960.png
ORGANIZER;CN="Innovation Foundry":MAILTO:if@acu.edu
END:VEVENT
END:VCALENDAR