BEGIN:VCALENDAR
VERSION:2.0
PRODID:-//Innovation Foundry - ECPv6.15.12.2//NONSGML v1.0//EN
CALSCALE:GREGORIAN
METHOD:PUBLISH
X-ORIGINAL-URL:https://blogs.acu.edu/innovation_foundry
X-WR-CALDESC:Events for Innovation Foundry
REFRESH-INTERVAL;VALUE=DURATION:PT1H
X-Robots-Tag:noindex
X-PUBLISHED-TTL:PT1H
BEGIN:VTIMEZONE
TZID:America/Chicago
BEGIN:DAYLIGHT
TZOFFSETFROM:-0600
TZOFFSETTO:-0500
TZNAME:CDT
DTSTART:20180311T080000
END:DAYLIGHT
BEGIN:STANDARD
TZOFFSETFROM:-0500
TZOFFSETTO:-0600
TZNAME:CST
DTSTART:20181104T070000
END:STANDARD
BEGIN:DAYLIGHT
TZOFFSETFROM:-0600
TZOFFSETTO:-0500
TZNAME:CDT
DTSTART:20190310T080000
END:DAYLIGHT
BEGIN:STANDARD
TZOFFSETFROM:-0500
TZOFFSETTO:-0600
TZNAME:CST
DTSTART:20191103T070000
END:STANDARD
BEGIN:DAYLIGHT
TZOFFSETFROM:-0600
TZOFFSETTO:-0500
TZNAME:CDT
DTSTART:20200308T080000
END:DAYLIGHT
BEGIN:STANDARD
TZOFFSETFROM:-0500
TZOFFSETTO:-0600
TZNAME:CST
DTSTART:20201101T070000
END:STANDARD
END:VTIMEZONE
BEGIN:VEVENT
DTSTART;TZID=America/Chicago:20191120T113000
DTEND;TZID=America/Chicago:20191120T125000
DTSTAMP:20260420T221241
CREATED:20190826T195926Z
LAST-MODIFIED:20200110T203908Z
UID:12057-1574249400-1574254200@blogs.acu.edu
SUMMARY:Teaching with Virtual Reality [RSVP]
DESCRIPTION:Virtual Reality is one of the hot topics in educational technology. Explore with ACU’s learning technologists how VR can make a direct impact in your classroom with new tools and an ever expanding library of applications. \nComplete the form below to RSVP for this session. \n\n\n\n[ninja_form id=24]
URL:https://blogs.acu.edu/innovation_foundry/event/teaching-with-virtual-reality-rsvp/
LOCATION:Adams Center
CATEGORIES:Foundry Chat
ATTACH;FMTTYPE=image/png:https://blogs.acu.edu/innovation_foundry/files/2019/08/Foundry_Chat_VR_Web.png
ORGANIZER;CN="Innovation Foundry":MAILTO:if@acu.edu
END:VEVENT
BEGIN:VEVENT
DTSTART;TZID=America/Chicago:20191118T120000
DTEND;TZID=America/Chicago:20191118T125000
DTSTAMP:20260420T221241
CREATED:20190826T204431Z
LAST-MODIFIED:20190830T181854Z
UID:12064-1574078400-1574081400@blogs.acu.edu
SUMMARY:Maker Monday: Setting Up Christmas Presents on the CNC Router in Adobe Illustrator [RSVP]
DESCRIPTION:The Innovation Foundry in partnership with the MakerLab invites you to learn how to use the CNC Router to create Christmas Presents at our Maker Monday session. \nComplete the form below to RSVP for this session. \n\n\n\n[ninja_form id=27]
URL:https://blogs.acu.edu/innovation_foundry/event/maker-monday-setting-up-christmas-presents-on-the-cnc-router-in-adobe-illustrator/
LOCATION:Innovation Foundry
CATEGORIES:Maker Monday
ATTACH;FMTTYPE=image/png:https://blogs.acu.edu/innovation_foundry/files/2019/08/MakerMonday_CNC_Web.png
END:VEVENT
BEGIN:VEVENT
DTSTART;TZID=America/Chicago:20191112T113000
DTEND;TZID=America/Chicago:20191112T125000
DTSTAMP:20260420T221241
CREATED:20190827T173655Z
LAST-MODIFIED:20190829T153248Z
UID:12079-1573558200-1573563000@blogs.acu.edu
SUMMARY:Adobe Workshop: Creating a Composite Image Using Photoshop
DESCRIPTION:Complete the form below to RSVP for this session. \n[ninja_form id=34]
URL:https://blogs.acu.edu/innovation_foundry/event/adobe-workshop-creating-a-composite-image-using-photoshop/
LOCATION:Innovation Foundry
CATEGORIES:Adobe
ATTACH;FMTTYPE=image/png:https://blogs.acu.edu/innovation_foundry/files/2019/08/AdobeWorkshop_Photoshop_Web.png
ORGANIZER;CN="Innovation Foundry":MAILTO:if@acu.edu
END:VEVENT
BEGIN:VEVENT
DTSTART;TZID=America/Chicago:20191105T090000
DTEND;TZID=America/Chicago:20191105T095000
DTSTAMP:20260420T221241
CREATED:20190826T205841Z
LAST-MODIFIED:20190905T144417Z
UID:12066-1572944400-1572947400@blogs.acu.edu
SUMMARY:Tech Tune-Up: G-Suite Collaboration (Shared Drives\, File Sharing\, and Calendars)
DESCRIPTION:Google for Education has transformed the capabilities of the modern classroom. Are you taking advantage of all of its wonderful tools? \nComplete the form below to RSVP for this session. \n\n\n\n[ninja_form id=28]
URL:https://blogs.acu.edu/innovation_foundry/event/tech-tune-up-g-suite-collaboration-shared-drives-file-sharing-and-calendars/
LOCATION:Innovation Foundry
CATEGORIES:Tech Tune-Up
ATTACH;FMTTYPE=image/png:https://blogs.acu.edu/innovation_foundry/files/2019/08/Tech_TuneUp_GSuite_Web-01.png
ORGANIZER;CN="Innovation Foundry":MAILTO:if@acu.edu
END:VEVENT
BEGIN:VEVENT
DTSTART;TZID=America/Chicago:20191029T113000
DTEND;TZID=America/Chicago:20191029T125000
DTSTAMP:20260420T221241
CREATED:20190827T173453Z
LAST-MODIFIED:20190830T180433Z
UID:12077-1572348600-1572353400@blogs.acu.edu
SUMMARY:Adobe Workshop: Creating an Animated Digital Flyer Using InDesign
DESCRIPTION:Complete the form below to RSVP for this session. \n[ninja_form id=33]
URL:https://blogs.acu.edu/innovation_foundry/event/adobe-workshop-creating-an-animated-digital-flyer-using-indesign/
LOCATION:Innovation Foundry
CATEGORIES:Adobe
ATTACH;FMTTYPE=image/png:https://blogs.acu.edu/innovation_foundry/files/2019/08/AdobeWorkshop_InDesign_Web.png
ORGANIZER;CN="Innovation Foundry":MAILTO:if@acu.edu
END:VEVENT
BEGIN:VEVENT
DTSTART;TZID=America/Chicago:20191022T090000
DTEND;TZID=America/Chicago:20191022T095000
DTSTAMP:20260420T221241
CREATED:20190826T210054Z
LAST-MODIFIED:20190830T180045Z
UID:12068-1571734800-1571737800@blogs.acu.edu
SUMMARY:Tech Tune-Up: Account Security (myACU\, SSO\, G-Suite) and Last Pass
DESCRIPTION:Complete the form below to RSVP for this session. \n\n\n\n[ninja_form id=29]
URL:https://blogs.acu.edu/innovation_foundry/event/tech-tune-up-account-security-myacu-sso-g-suite-and-last-pass/
LOCATION:Innovation Foundry
CATEGORIES:Tech Tune-Up
ATTACH;FMTTYPE=image/png:https://blogs.acu.edu/innovation_foundry/files/2019/08/Tech_TuneUp_AccountSecurity_Web.png
ORGANIZER;CN="Innovation Foundry":MAILTO:if@acu.edu
END:VEVENT
BEGIN:VEVENT
DTSTART;TZID=America/Chicago:20191010T113000
DTEND;TZID=America/Chicago:20191010T125000
DTSTAMP:20260420T221241
CREATED:20190826T195311Z
LAST-MODIFIED:20190830T175737Z
UID:12055-1570707000-1570711800@blogs.acu.edu
SUMMARY:Alternative Textbook Successes and Challenges [RSVP]
DESCRIPTION:After one year of a pilot program with the Brown Library and Innovation Foundry\, ACU faculty share some of the successes and challenges they experienced with using Open Educational Resources. \nComplete the form below to RSVP for this session. \n\n\n\n[ninja_form id=23]
URL:https://blogs.acu.edu/innovation_foundry/event/alternative-textbook-successes-and-challenges-rsvp/
LOCATION:Adams Center
CATEGORIES:Foundry Chat
ATTACH;FMTTYPE=image/png:https://blogs.acu.edu/innovation_foundry/files/2019/08/Foundry_Chat_OER_Web.png
ORGANIZER;CN="Innovation Foundry":MAILTO:if@acu.edu
END:VEVENT
BEGIN:VEVENT
DTSTART;TZID=America/Chicago:20191008T113000
DTEND;TZID=America/Chicago:20191008T125000
DTSTAMP:20260420T221241
CREATED:20190826T215634Z
LAST-MODIFIED:20190829T155109Z
UID:12074-1570534200-1570539000@blogs.acu.edu
SUMMARY:Adobe Workshop: Showcasing Your Work with Adobe Portfolio
DESCRIPTION:Complete the form below to RSVP for this session. \n\n\n\n[ninja_form id=32]
URL:https://blogs.acu.edu/innovation_foundry/event/adobe-workshop-showcasing-your-work-with-adobe-portfolio/
LOCATION:Innovation Foundry
CATEGORIES:Adobe
ATTACH;FMTTYPE=image/png:https://blogs.acu.edu/innovation_foundry/files/2019/08/AdobeWorkshop_Portfolio_Web.png
ORGANIZER;CN="Innovation Foundry":MAILTO:if@acu.edu
END:VEVENT
BEGIN:VEVENT
DTSTART;TZID=America/Chicago:20190930T120000
DTEND;TZID=America/Chicago:20190930T125000
DTSTAMP:20260420T221241
CREATED:20190826T201708Z
LAST-MODIFIED:20190829T154829Z
UID:12062-1569844800-1569847800@blogs.acu.edu
SUMMARY:Maker Monday: Setting Up a Project for the Laser Cutter in Adobe Illustrator
DESCRIPTION:The Innovation Foundry in partnership with the MakerLab invite you to learn how to use the Laser Cutter at our Maker Monday session.  \nComplete the form below to RSVP for this session. \n\n\n\n[ninja_form id=25]
URL:https://blogs.acu.edu/innovation_foundry/event/maker-monday-setting-up-a-project-for-the-laser-cutter-in-adobe-illustrator/
LOCATION:Innovation Foundry
CATEGORIES:Maker Monday
ATTACH;FMTTYPE=image/png:https://blogs.acu.edu/innovation_foundry/files/2019/08/MakerMonday_LaserCutter_Web.png
END:VEVENT
BEGIN:VEVENT
DTSTART;TZID=America/Chicago:20190924T090000
DTEND;TZID=America/Chicago:20190924T095000
DTSTAMP:20260420T221241
CREATED:20190826T211359Z
LAST-MODIFIED:20190905T144118Z
UID:12070-1569315600-1569318600@blogs.acu.edu
SUMMARY:Tech Tune-Up: Email Phishing and SPAM
DESCRIPTION:ACU’s IT Department works diligently to provide services that help to keep your ACU email safe\, but what are the steps you need to be doing to keep your account safe? \nComplete the form below to RSVP for this session. \n\n\n\n[ninja_form id=30]
URL:https://blogs.acu.edu/innovation_foundry/event/tech-tune-up-email-phishing-and-spam/
LOCATION:Innovation Foundry
CATEGORIES:Tech Tune-Up
ATTACH;FMTTYPE=image/png:https://blogs.acu.edu/innovation_foundry/files/2019/08/Tech_TuneUp_EmailPhishing_Web-01.png
ORGANIZER;CN="Innovation Foundry":MAILTO:if@acu.edu
END:VEVENT
BEGIN:VEVENT
DTSTART;TZID=America/Chicago:20190923T120000
DTEND;TZID=America/Chicago:20190923T125000
DTSTAMP:20260420T221241
CREATED:20190826T201444Z
LAST-MODIFIED:20190902T160138Z
UID:12059-1569240000-1569243000@blogs.acu.edu
SUMMARY:Maker Monday: Creating Custom Vinyl Stickers and T-Shirt Designs Using Adobe Illustrator
DESCRIPTION:The Innovation Foundry in partnership with the MakerLab invite you to learn how to use the Vinyl Cutter to create custom stickers and T-Shirts at our Maker Monday session. \nComplete the form below to RSVP for this session. \n\n\n\n[ninja_form id=26]
URL:https://blogs.acu.edu/innovation_foundry/event/maker-monday-creating-custom-vinyl-stickers-and-t-shirt-designs-using-adobe-illustrator/
LOCATION:Innovation Foundry
CATEGORIES:Maker Monday
ATTACH;FMTTYPE=image/png:https://blogs.acu.edu/innovation_foundry/files/2019/08/MakerMonday_Vinyl_Web-01.png
END:VEVENT
BEGIN:VEVENT
DTSTART;TZID=America/Chicago:20190917T113000
DTEND;TZID=America/Chicago:20190917T130000
DTSTAMP:20260420T221241
CREATED:20190826T215407Z
LAST-MODIFIED:20190910T190806Z
UID:12072-1568719800-1568725200@blogs.acu.edu
SUMMARY:RSVP: Adobe Workshop: Creating myACU Ads Using Illustrator
DESCRIPTION:Do you have upcoming events that you need to advertise on myACU or other social media outlets? In this session\, you will learn the basics of Adobe Illustrator to create myACU ads. Bring your laptop with Adobe Illustrator pre-installed. If you do not have Adobe Creative Cloud and Adobe Illustrator\, you can download at acu.edu/adobe.  \nLunch will be provided for this session! \nComplete the form below to RSVP for this session. \n\n\n\n[ninja_form id=31]
URL:https://blogs.acu.edu/innovation_foundry/event/myacu-illustrator/
LOCATION:Innovation Foundry
CATEGORIES:Adobe
ATTACH;FMTTYPE=image/png:https://blogs.acu.edu/innovation_foundry/files/2019/08/AdobeWorkshop_Illustrator_Web.png
ORGANIZER;CN="Innovation Foundry":MAILTO:if@acu.edu
END:VEVENT
BEGIN:VEVENT
DTSTART;TZID=America/Chicago:20190829T113000
DTEND;TZID=America/Chicago:20190829T125000
DTSTAMP:20260420T221241
CREATED:20190826T193730Z
LAST-MODIFIED:20190829T154024Z
UID:12050-1567078200-1567083000@blogs.acu.edu
SUMMARY:Studio: Video for Your Canvas Course [RSVP]
DESCRIPTION:In this session\, Dr. Marisa Beard and Berlin Fang will discuss the use of video in your Canvas course using Canvas Studio. \nComplete the form below to RSVP for this session. \n\n\n\n[ninja_form id=22]\n\n\n\n 
URL:https://blogs.acu.edu/innovation_foundry/event/studio-video-for-your-canvas-course-rsvp/
LOCATION:Adams Center
CATEGORIES:Foundry Chat
ATTACH;FMTTYPE=image/png:https://blogs.acu.edu/innovation_foundry/files/2019/08/Foundry_Chat_Studio_Web.png
ORGANIZER;CN="Innovation Foundry":MAILTO:if@acu.edu
END:VEVENT
BEGIN:VEVENT
DTSTART;TZID=America/Chicago:20190718T090000
DTEND;TZID=America/Chicago:20190718T120000
DTSTAMP:20260420T221241
CREATED:20190530T141913Z
LAST-MODIFIED:20190530T142157Z
UID:11966-1563440400-1563451200@blogs.acu.edu
SUMMARY:Google Workshop Series # 3 [RSVP]
DESCRIPTION:Google Workshop Series: Workshop #3\nDate: July 18\, 2019 \nLearn how to get the most out of Google Suite in this series of workshops presented by the Innovation Foundry. This week\, we will be looking at using Google Calendar\, various Google Apps (Tasks\, Keep\, Maps\, etc.)\, and Gmail. RSVP below for the sessions you would like to attend. \nSchedule: \n9:00 AM – Google Calendar \n10:00 AM – Google Apps \n11:00 AM – Gmail \n[ninja_form id=21]
URL:https://blogs.acu.edu/innovation_foundry/event/google_workshop3/
LOCATION:Maker Lab Classroom
CATEGORIES:google
ATTACH;FMTTYPE=image/png:https://blogs.acu.edu/innovation_foundry/files/2019/05/Google-Workshops_1920x1080.png
ORGANIZER;CN="Innovation Foundry":MAILTO:if@acu.edu
END:VEVENT
BEGIN:VEVENT
DTSTART;TZID=America/Chicago:20190627T090000
DTEND;TZID=America/Chicago:20190627T120000
DTSTAMP:20260420T221241
CREATED:20190530T140920Z
LAST-MODIFIED:20190530T142213Z
UID:11964-1561626000-1561636800@blogs.acu.edu
SUMMARY:Google Workshop Series # 2 [RSVP]
DESCRIPTION:Google Workshop Series: Workshop #2\nDate: June 27\, 2019 \nLearn how to get the most out of Google Suite in this series of workshops presented by the Innovation Foundry. This week\, we will be looking at using Google Slides\, Docs\, and Forms. RSVP below for the sessions you would like to attend. \nSchedule: \n9:00 AM – Google Slides \n10:00 AM – Google Docs \n11:00 AM – Google Forms \n[ninja_form id=20]
URL:https://blogs.acu.edu/innovation_foundry/event/google_workshop2/
LOCATION:Maker Lab Classroom
CATEGORIES:google
ATTACH;FMTTYPE=image/png:https://blogs.acu.edu/innovation_foundry/files/2019/05/Google-Workshops_1920x1080.png
ORGANIZER;CN="Innovation Foundry":MAILTO:if@acu.edu
END:VEVENT
BEGIN:VEVENT
DTSTART;TZID=America/Chicago:20190613T090000
DTEND;TZID=America/Chicago:20190613T120000
DTSTAMP:20260420T221241
CREATED:20190530T134756Z
LAST-MODIFIED:20190530T142228Z
UID:11954-1560416400-1560427200@blogs.acu.edu
SUMMARY:Google Workshop Series # 1 [RSVP]
DESCRIPTION:Google Workshop Series: Workshop #1\nDate: June 13\, 2019 \nLearn how to get the most out of Google Suite in this series of workshops presented by the Innovation Foundry. This week\, we will be looking at how to use Google Photos\, the power of sharing and organizing files with Google tools\, and how to use Tour Creator and Expeditions for immersive experiences. RSVP below for the sessions you would like to attend. \nSchedule: \n9:00 AM – Google Photos \n10:00 AM – Sharing & Organizing Files \n11:00 AM – Tour Creator/Expeditions \n[ninja_form id=19]
URL:https://blogs.acu.edu/innovation_foundry/event/google_workshop1/
LOCATION:Maker Lab Classroom
CATEGORIES:google
ATTACH;FMTTYPE=image/png:https://blogs.acu.edu/innovation_foundry/files/2019/05/Google-Workshops_1920x1080.png
ORGANIZER;CN="Innovation Foundry":MAILTO:if@acu.edu
END:VEVENT
BEGIN:VEVENT
DTSTART;TZID=America/Chicago:20190426T110000
DTEND;TZID=America/Chicago:20190426T130000
DTSTAMP:20260420T221241
CREATED:20190109T225026Z
LAST-MODIFIED:20190415T184128Z
UID:1929-1556276400-1556283600@blogs.acu.edu
SUMMARY:Google for Education Roadshow [RSVP]
DESCRIPTION:Google Education is on the road and will be making a stop in Abilene. \nParticipants will learn best practices for using Google solutions for immersive learning\, improving collaboration\, streamlining communication\, and optimizing their workflows. We’ll cover a number of new initiatives\, ranging from how campuses are using Google’s virtual and augmented reality platforms to provide students access to new experiences to the latest productivity and collaboration tools that promote interactive learning and improve student engagement. This event will be interactive\, and attendees are encouraged to bring devices so they can participate and do hands-on practice. \nCome see some of the tools available through Google for Higher Education\, and enjoy some lunch. To RSVP\, complete the form below. (Lunch will be provided for this session.) \n[ninja_form id=15]
URL:https://blogs.acu.edu/innovation_foundry/event/google/
LOCATION:Maker Lab Classroom
CATEGORIES:Foundry Chat
ATTACH;FMTTYPE=image/png:https://blogs.acu.edu/innovation_foundry/files/2019/01/GoogleRoadshow_960x540_Web.png
ORGANIZER;CN="Innovation Foundry":MAILTO:if@acu.edu
END:VEVENT
BEGIN:VEVENT
DTSTART;TZID=America/Chicago:20190422T113000
DTEND;TZID=America/Chicago:20190422T125000
DTSTAMP:20260420T221241
CREATED:20181221T212434Z
LAST-MODIFIED:20190122T182744Z
UID:1824-1555932600-1555937400@blogs.acu.edu
SUMMARY:Foundry Chat: Digital Portfolios [RSVP]
DESCRIPTION:In this session\, the Innovation Foundry team will discuss ways to enhance student learning\, encourage reflection\, and increase student voice by using some of the following options to create student digital portfolios: Adobe Portfolio\, Behance\, Canvas\, Adobe Acrobat\, and WordPress. \n*Lunch will be provided for this session. \nComplete the for below to RSVP. \n[ninja_form id=14]
URL:https://blogs.acu.edu/innovation_foundry/event/digital-portfolios/
LOCATION:Adams Center Classroom
CATEGORIES:Foundry Chat
ATTACH;FMTTYPE=image/jpeg:https://blogs.acu.edu/innovation_foundry/files/2018/12/FC_04.22.2019_960x540_Web.jpg
END:VEVENT
BEGIN:VEVENT
DTSTART;TZID=America/Chicago:20190417T113000
DTEND;TZID=America/Chicago:20190417T130000
DTSTAMP:20260420T221241
CREATED:20190109T225451Z
LAST-MODIFIED:20190404T213643Z
UID:1933-1555500600-1555506000@blogs.acu.edu
SUMMARY:Exploring Creative Cloud: Getting Started with Photoshop CC - 7 Essential Tools [RSVP]
DESCRIPTION:In this session\, you will learn 7 of the most essential tools when working in Adobe Photoshop. This is a hands-on session\, so bring your computer installed with Adobe Photoshop. At the end of the session\, you will have time to use the skills you learned to create something of your own. We will also discuss resources and ideas in incorporating Adobe Photoshop into your curriculum. \n(Lunch will be provided for this session.) \n[ninja_form id=12]
URL:https://blogs.acu.edu/innovation_foundry/event/exploring-creative-cloud-getting-started-with-photoshop-cc-7-essential-tools/
LOCATION:Innovation Foundry
CATEGORIES:Adobe
ATTACH;FMTTYPE=image/png:https://blogs.acu.edu/innovation_foundry/files/2019/01/ExploringCreativeCloud_4-17_Web.png
END:VEVENT
BEGIN:VEVENT
DTSTART;TZID=America/Chicago:20190416T090000
DTEND;TZID=America/Chicago:20190416T100000
DTSTAMP:20260420T221241
CREATED:20181221T214234Z
LAST-MODIFIED:20190122T182738Z
UID:1833-1555405200-1555408800@blogs.acu.edu
SUMMARY:Tech Tune-Up: Knowledge Management [RSVP]
DESCRIPTION:Join Hab Adkins and Alan Hilligoss as they discuss tools for efficient handling of information and knowledge resources within ACU. \n*Snacks and water will be provided. \nComplete the form below to RSVP. \n[ninja_form id=13]
URL:https://blogs.acu.edu/innovation_foundry/event/knowledge-management/
LOCATION:Innovation Foundry
CATEGORIES:Tech Tune-Up
ATTACH;FMTTYPE=image/jpeg:https://blogs.acu.edu/innovation_foundry/files/2018/12/TT_04.16.2019_960x540_Web.jpg
ORGANIZER;CN="Innovation Foundry":MAILTO:if@acu.edu
END:VEVENT
BEGIN:VEVENT
DTSTART;TZID=America/Chicago:20190410T113000
DTEND;TZID=America/Chicago:20190410T125000
DTSTAMP:20260420T221241
CREATED:20190404T203318Z
LAST-MODIFIED:20190404T203318Z
UID:11873-1554895800-1554900600@blogs.acu.edu
SUMMARY:Creative U: Fostering Creativity in the Classroom
DESCRIPTION:On Wednesday\, April 10\, as part of Creative U\, the Innovation Foundry will be leading a session in the Adams Center from 11:30 am – 12:50 pm that will focus on the idea of fostering creativity in the classroom. We will be in conversation with a few faculty that are using creative tools like Adobe Creative Cloud in their classrooms and how this prepares students for success in the future.  \nJoin us to learn more about using creative tools in your course. \n[ninja_form id=18]
URL:https://blogs.acu.edu/innovation_foundry/event/creative-u-fostering-creativity-in-the-classroom/
LOCATION:Adams Center
CATEGORIES:Creative U
ATTACH;FMTTYPE=image/png:https://blogs.acu.edu/innovation_foundry/files/2019/04/CreativeU_FacultyPanel_Web.png
ORGANIZER;CN="Innovation Foundry":MAILTO:if@acu.edu
END:VEVENT
BEGIN:VEVENT
DTSTART;TZID=America/Chicago:20190327T113000
DTEND;TZID=America/Chicago:20190327T125000
DTSTAMP:20260420T221241
CREATED:20181221T211524Z
LAST-MODIFIED:20190124T152153Z
UID:1821-1553686200-1553691000@blogs.acu.edu
SUMMARY:Foundry Chat: Actionable Data in Your Canvas Course [RSVP]
DESCRIPTION:In this session\, Stephen Rektenwald will discuss how to use the new Canvas Analytics (Beta) in your Canvas course for actionable items and how to take action. \n*Lunch will be provided for this session.\nPlease note the date change from the original publication to March 27. \nComplete the form below to RSVP. \n[ninja_form id=10]
URL:https://blogs.acu.edu/innovation_foundry/event/canvas-analytics/
LOCATION:Adams Center Classroom
CATEGORIES:Foundry Chat
ATTACH;FMTTYPE=image/jpeg:https://blogs.acu.edu/innovation_foundry/files/2018/12/FC_03.27.2019_960x540_Web.jpg
ORGANIZER;CN="Innovation Foundry":MAILTO:if@acu.edu
END:VEVENT
BEGIN:VEVENT
DTSTART;TZID=America/Chicago:20190325T120000
DTEND;TZID=America/Chicago:20190325T125000
DTSTAMP:20260420T221241
CREATED:20190109T222001Z
LAST-MODIFIED:20190122T182722Z
UID:1919-1553515200-1553518200@blogs.acu.edu
SUMMARY:Maker Monday: Setting Up a Project for the CNC Router in Illustrator [RSVP]
DESCRIPTION:Join Darren Wilson\, Director of the Maker Lab\, as he walks through how to set up a project for the CNC Router using Adobe Illustrator. Bring you laptop with Illustrator already installed. This is not required to attend\, but would be helpful. \n(Snacks will be provided for this session.) \n[ninja_form id=11]
URL:https://blogs.acu.edu/innovation_foundry/event/maker-monday-setting-up-a-project-for-the-cnc-router-in-illustrator/
LOCATION:Innovation Foundry
CATEGORIES:Maker Monday
ATTACH;FMTTYPE=image/jpeg:https://blogs.acu.edu/innovation_foundry/files/2019/01/MakerMonday_03.25.2019_960x540_Web.jpg
END:VEVENT
BEGIN:VEVENT
DTSTART;TZID=America/Chicago:20190319T113000
DTEND;TZID=America/Chicago:20190319T130000
DTSTAMP:20260420T221241
CREATED:20190109T224053Z
LAST-MODIFIED:20190122T182702Z
UID:1925-1552995000-1553000400@blogs.acu.edu
SUMMARY:Exploring Creative Cloud: Creativity on the Go - Using Adobe Mobile Apps [RSVP]
DESCRIPTION:We don’t always have our computers with us when we are inspired creatively. Adobe Mobile Apps allow you to express yourself creatively when you are on the go. Best of all\, these mobile apps integrate with other Adobe Applications through the Creative Cloud. We will also discuss resources and ideas in incorporating Adobe Mobile Apps into your curriculum. \n(Lunch will be provided for this session.) \n[ninja_form id=9]
URL:https://blogs.acu.edu/innovation_foundry/event/exploring-creative-cloud-creativity-on-the-go-using-adobe-mobile-apps/
LOCATION:Innovation Foundry
CATEGORIES:Adobe
ATTACH;FMTTYPE=image/jpeg:https://blogs.acu.edu/innovation_foundry/files/2019/01/Adobe_03.19.2019_960x540_Web.jpg
ORGANIZER;CN="Innovation Foundry":MAILTO:if@acu.edu
END:VEVENT
BEGIN:VEVENT
DTSTART;TZID=America/Chicago:20190307T113000
DTEND;TZID=America/Chicago:20190307T125000
DTSTAMP:20260420T221241
CREATED:20181221T210611Z
LAST-MODIFIED:20190124T151951Z
UID:1818-1551958200-1551963000@blogs.acu.edu
SUMMARY:Foundry Chat: Alternative Textbook Successes and Challenges [RSVP]
DESCRIPTION:In the Fall of 2018\, ACU offered an initial grant for 4 faculty to use Open Educational Resource (OER) products as their primary textbook. Find out how this went as these faculty members discuss their successes and challenges. \n*Lunch will be provided for this session.\nPlease note the date change from original publication to March 7 \nComplete the form below to RSVP.   \n  \n[ninja_form id=8]
URL:https://blogs.acu.edu/innovation_foundry/event/alt-textbooks/
LOCATION:Adams Center Classroom
CATEGORIES:Foundry Chat
ATTACH;FMTTYPE=image/jpeg:https://blogs.acu.edu/innovation_foundry/files/2018/12/FC_03.07.2019_960x540_Web.jpg
ORGANIZER;CN="Innovation Foundry":MAILTO:if@acu.edu
END:VEVENT
BEGIN:VEVENT
DTSTART;TZID=America/Chicago:20190305T090000
DTEND;TZID=America/Chicago:20190305T100000
DTSTAMP:20260420T221241
CREATED:20181221T213646Z
LAST-MODIFIED:20190122T182655Z
UID:1830-1551776400-1551780000@blogs.acu.edu
SUMMARY:Tech Tune-Up: LastPass [RSVP]
DESCRIPTION:Join Hab Adkins as he discusses the benefits of using LastPass. This is the last password you’ll ever have to remember. \n*Snacks and water will be provided. \nComplete the form below to RSVP. \n[ninja_form id=7]
URL:https://blogs.acu.edu/innovation_foundry/event/lastpass/
LOCATION:Innovation Foundry
CATEGORIES:Tech Tune-Up
ATTACH;FMTTYPE=image/jpeg:https://blogs.acu.edu/innovation_foundry/files/2018/12/TT_03.05.2019_960x540_Web.jpg
ORGANIZER;CN="Innovation Foundry":MAILTO:if@acu.edu
END:VEVENT
BEGIN:VEVENT
DTSTART;TZID=America/Chicago:20190218T120000
DTEND;TZID=America/Chicago:20190218T125000
DTSTAMP:20260420T221241
CREATED:20190109T221316Z
LAST-MODIFIED:20190122T182549Z
UID:1916-1550491200-1550494200@blogs.acu.edu
SUMMARY:Maker Monday: Creating Custom Vinyl Stickers and T-Shirt Designs Using Illustrator [RSVP]
DESCRIPTION:Join Darren Wilson\, Director of the Maker Lab\, as he walks through how to create custom vinyl stickers and t-shirt designs using Adobe Illustrator. \n(Snacks will be provided for this session.) \n[ninja_form id=6]
URL:https://blogs.acu.edu/innovation_foundry/event/maker-monday-creating-custom-vinyl-stickers-and-t-shirt-designs-using-illustrator/
LOCATION:Innovation Foundry
CATEGORIES:Maker Monday
ATTACH;FMTTYPE=image/jpeg:https://blogs.acu.edu/innovation_foundry/files/2019/01/MakerMonday_02.18.2019_960x540_Web.jpg
END:VEVENT
BEGIN:VEVENT
DTSTART;TZID=America/Chicago:20190206T113000
DTEND;TZID=America/Chicago:20190206T125000
DTSTAMP:20260420T221241
CREATED:20181221T204843Z
LAST-MODIFIED:20190122T182620Z
UID:1811-1549452600-1549457400@blogs.acu.edu
SUMMARY:Foundry Chat: Coaching Data: Basic Visualization and Analysis for Students and Faculty [RSVP]
DESCRIPTION:Dr. Richard Beck will equip faculty members to be able to teach their students about basic data visualization and analysis. This session will cover: \n\nUnderstanding data types\,\nVisualizing the relationships between data types\, and\nSelecting statistics to assess those relationships.\n\nComplete the form below to RSVP for this session. \n[ninja_form id=5]
URL:https://blogs.acu.edu/innovation_foundry/event/coaching-data/
LOCATION:Adams Center Classroom
CATEGORIES:Foundry Chat
ATTACH;FMTTYPE=image/jpeg:https://blogs.acu.edu/innovation_foundry/files/2018/12/FC_02.06.2019_960x540_Web.jpg
ORGANIZER;CN="Innovation Foundry":MAILTO:if@acu.edu
END:VEVENT
BEGIN:VEVENT
DTSTART;TZID=America/Chicago:20190205T113000
DTEND;TZID=America/Chicago:20190205T130000
DTSTAMP:20260420T221241
CREATED:20190109T223656Z
LAST-MODIFIED:20190122T182138Z
UID:1922-1549366200-1549371600@blogs.acu.edu
SUMMARY:Exploring Creative Cloud: Getting Started with Illustrator CC - 7 Essential Tools [RSVP]
DESCRIPTION:In this session\, you will learn 7 of the most essential tools when working in Adobe Illustrator. This is a hands-on session\, so bring your computer installed with Adobe Illustrator. At the end of the session\, you will have time to use the skills you learned to create something of your own. We will also discuss resources and ideas in incorporating Adobe Illustrator into your curriculum. \n(Lunch will be provided for this session.) \n[ninja_form id=3]
URL:https://blogs.acu.edu/innovation_foundry/event/exploring-creative-cloud-getting-started-with-illustrator-cc-7-essential-tools/
LOCATION:Innovation Foundry
CATEGORIES:Adobe
ATTACH;FMTTYPE=image/jpeg:https://blogs.acu.edu/innovation_foundry/files/2019/01/Adobe_02.05.2019_960x540_Web.jpg
ORGANIZER;CN="Innovation Foundry":MAILTO:if@acu.edu
END:VEVENT
BEGIN:VEVENT
DTSTART;TZID=America/Chicago:20190128T120000
DTEND;TZID=America/Chicago:20190128T125000
DTSTAMP:20260420T221241
CREATED:20190109T220715Z
LAST-MODIFIED:20190122T181953Z
UID:1913-1548676800-1548679800@blogs.acu.edu
SUMMARY:Maker Monday: Setting Up a Project for the Laser Cutter in Illustrator [RSVP]
DESCRIPTION:Join Darren Wilson as he walks through how to set up a project for the laser cutter in Adobe Illustrator. Bring your laptop with Adobe Illustrator installed already. This is not required\, but would be helpful. \n(Snacks will be provided for this session.) \n[ninja_form id=2]
URL:https://blogs.acu.edu/innovation_foundry/event/maker-monday-setting-up-a-project-for-the-laser-cutter-in-illustrator/
LOCATION:Innovation Foundry
CATEGORIES:Maker Monday
ATTACH;FMTTYPE=image/jpeg:https://blogs.acu.edu/innovation_foundry/files/2019/01/MakerMonday_01.28.2019_960x540_Web.jpg
ORGANIZER;CN="Innovation Foundry":MAILTO:if@acu.edu
END:VEVENT
END:VCALENDAR