BEGIN:VCALENDAR
VERSION:2.0
PRODID:-//Innovation Foundry - ECPv6.15.12.2//NONSGML v1.0//EN
CALSCALE:GREGORIAN
METHOD:PUBLISH
X-WR-CALNAME:Innovation Foundry
X-ORIGINAL-URL:https://blogs.acu.edu/innovation_foundry
X-WR-CALDESC:Events for Innovation Foundry
REFRESH-INTERVAL;VALUE=DURATION:PT1H
X-Robots-Tag:noindex
X-PUBLISHED-TTL:PT1H
BEGIN:VTIMEZONE
TZID:America/Chicago
BEGIN:DAYLIGHT
TZOFFSETFROM:-0600
TZOFFSETTO:-0500
TZNAME:CDT
DTSTART:20180311T080000
END:DAYLIGHT
BEGIN:STANDARD
TZOFFSETFROM:-0500
TZOFFSETTO:-0600
TZNAME:CST
DTSTART:20181104T070000
END:STANDARD
BEGIN:DAYLIGHT
TZOFFSETFROM:-0600
TZOFFSETTO:-0500
TZNAME:CDT
DTSTART:20190310T080000
END:DAYLIGHT
BEGIN:STANDARD
TZOFFSETFROM:-0500
TZOFFSETTO:-0600
TZNAME:CST
DTSTART:20191103T070000
END:STANDARD
BEGIN:DAYLIGHT
TZOFFSETFROM:-0600
TZOFFSETTO:-0500
TZNAME:CDT
DTSTART:20200308T080000
END:DAYLIGHT
BEGIN:STANDARD
TZOFFSETFROM:-0500
TZOFFSETTO:-0600
TZNAME:CST
DTSTART:20201101T070000
END:STANDARD
END:VTIMEZONE
BEGIN:VEVENT
DTSTART;TZID=America/Chicago:20190122T090000
DTEND;TZID=America/Chicago:20190122T100000
DTSTAMP:20260421T012618
CREATED:20181221T213121Z
LAST-MODIFIED:20190115T195027Z
UID:1827-1548147600-1548151200@blogs.acu.edu
SUMMARY:Tech Tune-Up: Google Calendar: Collaborative Calendaring [RSVP]
DESCRIPTION:  \nJoin Hab Adkins as he discusses how to utilize Google Calendars to collaborate with others. \n*Snacks and water will be provided. \nRSVP HERE\n 
URL:https://blogs.acu.edu/innovation_foundry/event/google-calendar/
LOCATION:Innovation Foundry
CATEGORIES:Tech Tune-Up
ORGANIZER;CN="Innovation Foundry":MAILTO:if@acu.edu
END:VEVENT
END:VCALENDAR